BEGIN:VCALENDAR
VERSION:2.0
PRODID:-//ExpressionEngine Easy iCalendar plugin//NONSGML v2.0.0//EN
X-WR-TIMEZONE:America/New_York
X-WR-CALNAME:Upcoming Auctions
BEGIN:VEVENT
UID:14590
DTSTAMP:20131017T200000
DTSTART:20131017T200000
DTEND:20131018T200000
SUMMARY:THE BRANSON COLLECTOR CAR AUCTION
LOCATION:200 E Main St\, Branson\, MO 65616\, US
DESCRIPTION:There will be an excellent line up of collector cars at the 
 33rd Annual Branson Collector Car Auction. This will be a gr
 eat event in the heart of the Ozarks!!
URL:https://www.bidwilson.com/auctions/detail/bw14590
SEQUENCE:1
END:VEVENT
END:VCALENDAR